BEGIN:VCALENDAR
VERSION:2.0
PRODID:-//wp-events-plugin.com//5.99912//EN
TZID:Europe/Berlin
X-WR-TIMEZONE:Europe/Berlin
BEGIN:VEVENT
UID:0-278@laichingen.albverein.eu
DTSTART;TZID=Europe/Berlin:20260916T180000
DTEND;TZID=Europe/Berlin:20260916T210000
DTSTAMP:20260222T093850Z
URL:https://laichingen.albverein.eu/events/abendliche-radtour-mit-vesper/
SUMMARY:Abendliche Radtour mit Vesper
DESCRIPTION:Abendliche Radtour mit Vesper\n(Anmeldung erforderlich)\nAbfahr
 t: 18.00 Uhr
END:VEVENT
BEGIN:VTIMEZONE
TZID:Europe/Berlin
X-LIC-LOCATION:Europe/Berlin
BEGIN:DAYLIGHT
DTSTART:20260329T030000
TZOFFSETFROM:+0100
TZOFFSETTO:+0200
TZNAME:CEST
END:DAYLIGHT
END:VTIMEZONE
END:VCALENDAR