BEGIN:VCALENDAR
VERSION:2.0
PRODID:-//wp-events-plugin.com//5.99912//EN
TZID:Europe/Berlin
X-WR-TIMEZONE:Europe/Berlin
BEGIN:VEVENT
UID:0-287@laichingen.albverein.eu
DTSTART;TZID=Europe/Berlin:20261213T143000
DTEND;TZID=Europe/Berlin:20261213T180000
DTSTAMP:20260222T094643Z
URL:https://laichingen.albverein.eu/events/adventskaffee-5/
SUMMARY:Adventskaffee
DESCRIPTION:Adventskaffee\nTreffpunkt: Vereinsraum "Alte Realschule"\nBegin
 n: 14.30 Uhr
END:VEVENT
BEGIN:VTIMEZONE
TZID:Europe/Berlin
X-LIC-LOCATION:Europe/Berlin
BEGIN:STANDARD
DTSTART:20261025T020000
TZOFFSETFROM:+0200
TZOFFSETTO:+0100
TZNAME:CET
END:STANDARD
END:VTIMEZONE
END:VCALENDAR