BEGIN:VCALENDAR
VERSION:2.0
PRODID:-//wp-events-plugin.com//5.99912//EN
TZID:Europe/Berlin
X-WR-TIMEZONE:Europe/Berlin
BEGIN:VEVENT
UID:0-284@laichingen.albverein.eu
DTSTART;TZID=Europe/Berlin:20261019T080000
DTEND;TZID=Europe/Berlin:20261019T120000
DTSTAMP:20260222T094501Z
URL:https://laichingen.albverein.eu/events/fit-in-den-morgen-21/
SUMMARY:"Fit in den Morgen“
DESCRIPTION:"Fit in den Morgen“\nTreffpunkt: 8.00 Uhr\, „Alte Realschul
 e“\nWanderstrecke: 5 - 7 km\nWanderfuhrer: Monika und Heinz Rauscher
END:VEVENT
BEGIN:VTIMEZONE
TZID:Europe/Berlin
X-LIC-LOCATION:Europe/Berlin
BEGIN:DAYLIGHT
DTSTART:20260329T030000
TZOFFSETFROM:+0100
TZOFFSETTO:+0200
TZNAME:CEST
END:DAYLIGHT
END:VTIMEZONE
END:VCALENDAR