BEGIN:VCALENDAR
VERSION:2.0
PRODID:-//wp-events-plugin.com//5.99912//EN
TZID:Europe/Berlin
X-WR-TIMEZONE:Europe/Berlin
BEGIN:VEVENT
UID:0-275@laichingen.albverein.eu
DTSTART;TZID=Europe/Berlin;VALUE=DATE:20260906
DTEND;TZID=Europe/Berlin;VALUE=DATE:20260907
DTSTAMP:20260222T093726Z
URL:https://laichingen.albverein.eu/events/heimattage-baden-wuerttemberg-i
 n-oberkirch/
SUMMARY:Heimattage Baden-Württemberg in Oberkirch
DESCRIPTION:Heimattage Baden-Württemberg\nin Oberkirch
END:VEVENT
BEGIN:VTIMEZONE
TZID:Europe/Berlin
X-LIC-LOCATION:Europe/Berlin
BEGIN:DAYLIGHT
DTSTART:20260329T030000
TZOFFSETFROM:+0100
TZOFFSETTO:+0200
TZNAME:CEST
END:DAYLIGHT
END:VTIMEZONE
END:VCALENDAR