BEGIN:VCALENDAR
VERSION:2.0
PRODID:-//wp-events-plugin.com//5.99912//EN
TZID:Europe/Berlin
X-WR-TIMEZONE:Europe/Berlin
BEGIN:VEVENT
UID:0-288@laichingen.albverein.eu
DTSTART;TZID=Europe/Berlin:20261231T160000
DTEND;TZID=Europe/Berlin:20261231T170000
DTSTAMP:20260222T094709Z
URL:https://laichingen.albverein.eu/events/silvester-standkonzert-mit-glue
 hweinverkauf-5/
SUMMARY:Silvester-Standkonzert mit Glühweinverkauf
DESCRIPTION:Silvester-Standkonzert mit Glühweinverkauf\nStadtkapelle und S
 chwäbischer Albverein Laichingen
END:VEVENT
BEGIN:VTIMEZONE
TZID:Europe/Berlin
X-LIC-LOCATION:Europe/Berlin
BEGIN:STANDARD
DTSTART:20261025T020000
TZOFFSETFROM:+0200
TZOFFSETTO:+0100
TZNAME:CET
END:STANDARD
END:VTIMEZONE
END:VCALENDAR