BEGIN:VCALENDAR
VERSION:2.0
PRODID:-//wp-events-plugin.com//5.99912//EN
TZID:Europe/Berlin
X-WR-TIMEZONE:Europe/Berlin
BEGIN:VEVENT
UID:0-254@laichingen.albverein.eu
DTSTART;TZID=Europe/Berlin:20260501T070000
DTEND;TZID=Europe/Berlin:20260501T180000
DTSTAMP:20260222T092512Z
URL:https://laichingen.albverein.eu/events/sportliche-wanderung-von-laichi
 ngen-nach-goeppingen/
SUMMARY:Sportliche Wanderung von Laichingen nach Göppingen
DESCRIPTION:Sportliche Wanderung von Laichingen nach\nGöppingen\nTreffpunk
 t: 7.00 Uhr\, Parkplatz Radschule\, PKW\nWanderstrecke: 32 km\nWanderführ
 er: Stefan Rauscher\n(weitere Informationen und Anmeldung\nbei Stefan Raus
 cher)
END:VEVENT
BEGIN:VTIMEZONE
TZID:Europe/Berlin
X-LIC-LOCATION:Europe/Berlin
BEGIN:DAYLIGHT
DTSTART:20260329T030000
TZOFFSETFROM:+0100
TZOFFSETTO:+0200
TZNAME:CEST
END:DAYLIGHT
END:VTIMEZONE
END:VCALENDAR