BEGIN:VCALENDAR
VERSION:2.0
PRODID:-//wp-events-plugin.com//5.99912//EN
TZID:Europe/Berlin
X-WR-TIMEZONE:Europe/Berlin
BEGIN:VEVENT
UID:0-286@laichingen.albverein.eu
DTSTART;TZID=Europe/Berlin:20261121T180000
DTEND;TZID=Europe/Berlin:20261121T210000
DTSTAMP:20260222T094553Z
URL:https://laichingen.albverein.eu/events/wanderung-abendliche-wanderung-
 mit-abschlussgrillen-4/
SUMMARY:Wanderung "Abendliche Wanderung mit Abschlußgrillen"
DESCRIPTION:Wanderung "Abendliche Wanderung mit\nAbschlußgrillen"\nDieser 
 abendliche Spaziergang ist besonders\nfür Familien mit Kindern geeignet.\
 nTreffpunkt: 18.00 Uhr\, "Alte Realschule"\nWanderführer: Familiengruppe
END:VEVENT
BEGIN:VTIMEZONE
TZID:Europe/Berlin
X-LIC-LOCATION:Europe/Berlin
BEGIN:STANDARD
DTSTART:20261025T020000
TZOFFSETFROM:+0200
TZOFFSETTO:+0100
TZNAME:CET
END:STANDARD
END:VTIMEZONE
END:VCALENDAR