BEGIN:VCALENDAR
VERSION:2.0
PRODID:-//wp-events-plugin.com//5.99912//EN
TZID:Europe/Berlin
X-WR-TIMEZONE:Europe/Berlin
BEGIN:VEVENT
UID:0-252@laichingen.albverein.eu
DTSTART;TZID=Europe/Berlin:20260419T130000
DTEND;TZID=Europe/Berlin:20260419T180000
DTSTAMP:20260222T092327Z
URL:https://laichingen.albverein.eu/events/wanderung-filsursprung-steinern
 es-haus/
SUMMARY:Wanderung „Filsursprung - Steinernes Haus“
DESCRIPTION:Wanderung „Filsursprung - Steinernes Haus“\nTreffpunkt: 13.
 00 Uhr\, Parkplatz Radschule\, PKW\nWanderstrecke: 11\,5 km\nWanderführer
 : Stefan Rauscher\nKarte: Blatt 20 Geislingen / Blaubeuren
END:VEVENT
BEGIN:VTIMEZONE
TZID:Europe/Berlin
X-LIC-LOCATION:Europe/Berlin
BEGIN:DAYLIGHT
DTSTART:20260329T030000
TZOFFSETFROM:+0100
TZOFFSETTO:+0200
TZNAME:CEST
END:DAYLIGHT
END:VTIMEZONE
END:VCALENDAR