BEGIN:VCALENDAR
VERSION:2.0
PRODID:-//wp-events-plugin.com//5.99912//EN
TZID:Europe/Berlin
X-WR-TIMEZONE:Europe/Berlin
BEGIN:VEVENT
UID:0-274@laichingen.albverein.eu
DTSTART;TZID=Europe/Berlin:20260830T060000
DTEND;TZID=Europe/Berlin:20260830T120000
DTSTAMP:20260222T093708Z
URL:https://laichingen.albverein.eu/events/wanderung-fruehwanderung-mit-an
 schliessendem-fruhstuck/
SUMMARY:Wanderung "Frühwanderung mit anschließendem Frühstück"
DESCRIPTION:Wanderung "Frühwanderung mit\nanschließendem Frühstück"\nTr
 effpunkt: 06:00 Uhr\, „Alte Realschule“\nWanderstrecke: 10 km\nWanderf
 ührer: Ilse und Walter Ruoß\nStefan Rauscher\nKarte: Blatt 20 Geislingen
  / Blaubeuren
END:VEVENT
BEGIN:VTIMEZONE
TZID:Europe/Berlin
X-LIC-LOCATION:Europe/Berlin
BEGIN:DAYLIGHT
DTSTART:20260329T030000
TZOFFSETFROM:+0100
TZOFFSETTO:+0200
TZNAME:CEST
END:DAYLIGHT
END:VTIMEZONE
END:VCALENDAR