BEGIN:VCALENDAR
VERSION:2.0
PRODID:-//wp-events-plugin.com//5.99912//EN
TZID:Europe/Berlin
X-WR-TIMEZONE:Europe/Berlin
BEGIN:VEVENT
UID:0-268@laichingen.albverein.eu
DTSTART;TZID=Europe/Berlin:20260726T130000
DTEND;TZID=Europe/Berlin:20260726T180000
DTSTAMP:20260222T093345Z
URL:https://laichingen.albverein.eu/events/wanderung-hutzelweg/
SUMMARY:Wanderung "Hutzelweg\,
DESCRIPTION:Wanderung "Hutzelweg\,\nReutlingen - Ohmenhausen“\nTreffpunkt
 : 13.00 Uhr\, Parkplatz Radschule\, PKW\nWanderstrecke: 10\,5 km\, 170 Hm\
 nWanderführerin: Beate Schneider\nKarte: Blatt 18 Tübingen / Rottenburg
END:VEVENT
BEGIN:VTIMEZONE
TZID:Europe/Berlin
X-LIC-LOCATION:Europe/Berlin
BEGIN:DAYLIGHT
DTSTART:20260329T030000
TZOFFSETFROM:+0100
TZOFFSETTO:+0200
TZNAME:CEST
END:DAYLIGHT
END:VTIMEZONE
END:VCALENDAR