BEGIN:VCALENDAR
VERSION:2.0
PRODID:-//wp-events-plugin.com//5.99912//EN
TZID:Europe/Berlin
X-WR-TIMEZONE:Europe/Berlin
BEGIN:VEVENT
UID:0-260@laichingen.albverein.eu
DTSTART;TZID=Europe/Berlin:20260614T130000
DTEND;TZID=Europe/Berlin:20260614T180000
DTSTAMP:20260222T092908Z
URL:https://laichingen.albverein.eu/events/wanderung-kohlberg-florian-arbo
 retum/
SUMMARY:Wanderung „Kohlberg - Florian Arboretum“
DESCRIPTION:Wanderung „Kohlberg - Florian Arboretum“\nTreffpunkt: 13.00
  Uhr\, Parkplatz Radschule\, PKW\nWanderstrecke: 10 km\nWanderführer: Ils
 e und Walter Ruoß\nKarte: W 238 Metzingen
END:VEVENT
BEGIN:VTIMEZONE
TZID:Europe/Berlin
X-LIC-LOCATION:Europe/Berlin
BEGIN:DAYLIGHT
DTSTART:20260329T030000
TZOFFSETFROM:+0100
TZOFFSETTO:+0200
TZNAME:CEST
END:DAYLIGHT
END:VTIMEZONE
END:VCALENDAR