BEGIN:VCALENDAR
VERSION:2.0
PRODID:-//wp-events-plugin.com//5.99912//EN
TZID:Europe/Berlin
X-WR-TIMEZONE:Europe/Berlin
BEGIN:VEVENT
UID:0-283@laichingen.albverein.eu
DTSTART;TZID=Europe/Berlin:20261018T130000
DTEND;TZID=Europe/Berlin:20261018T180000
DTSTAMP:20260222T094429Z
URL:https://laichingen.albverein.eu/events/wanderung-um-den-lammerbuckel/
SUMMARY:Wanderung "Um den Lammerbuckel"
DESCRIPTION:Wanderung "Um den Lammerbuckel"\nTreffpunkt: 13.00 Uhr\, Parkpl
 atz Radschule\, PKW\nWanderstrecke: 10 km\nWanderführer: Heinz Rauscher\n
 Karte: Blatt 20 Geislingen / Blaubeuren
END:VEVENT
BEGIN:VTIMEZONE
TZID:Europe/Berlin
X-LIC-LOCATION:Europe/Berlin
BEGIN:DAYLIGHT
DTSTART:20260329T030000
TZOFFSETFROM:+0100
TZOFFSETTO:+0200
TZNAME:CEST
END:DAYLIGHT
END:VTIMEZONE
END:VCALENDAR