BEGIN:VCALENDAR
VERSION:2.0
PRODID:-//wp-events-plugin.com//5.99912//EN
TZID:Europe/Berlin
X-WR-TIMEZONE:Europe/Berlin
BEGIN:VEVENT
UID:0-264@laichingen.albverein.eu
DTSTART;TZID=Europe/Berlin:20260605T100000
DTEND;TZID=Europe/Berlin:20260605T140000
DTSTAMP:20260222T093128Z
URL:https://laichingen.albverein.eu/events/wanderung-wanderung-zum-zaining
 er-huelehock/
SUMMARY:Wanderung "Wanderung zum Zaininger Hülehock“
DESCRIPTION:Wanderung "Wanderung zum\nZaininger Hülehock“\nTreffpunkt: 1
 0.00 Uhr\, Parkplatz Radschule\, PKW\nWanderstrecke: 12 km\nWanderführer:
  Stefan Rauscher\nKarte: W 244 Ehingen
END:VEVENT
BEGIN:VTIMEZONE
TZID:Europe/Berlin
X-LIC-LOCATION:Europe/Berlin
BEGIN:DAYLIGHT
DTSTART:20260329T030000
TZOFFSETFROM:+0100
TZOFFSETTO:+0200
TZNAME:CEST
END:DAYLIGHT
END:VTIMEZONE
END:VCALENDAR