BEGIN:VCALENDAR
VERSION:2.0
PRODID:-//wp-events-plugin.com//5.99912//EN
TZID:Europe/Berlin
X-WR-TIMEZONE:Europe/Berlin
BEGIN:VEVENT
UID:0-281@laichingen.albverein.eu
DTSTART;TZID=Europe/Berlin:20261004T070000
DTEND;TZID=Europe/Berlin:20261004T200000
DTSTAMP:20260222T094232Z
URL:https://laichingen.albverein.eu/events/wanderung-weinwanderfahrt-nach-
 cleebronn-mit-riesling-express/
SUMMARY:Wanderung "Weinwanderfahrt nach Cleebronn mit Riesling Express“
DESCRIPTION:Wanderung "Weinwanderfahrt nach Cleebronn\nmit Riesling Express
 “\nWanderführer: Stefan Rauscher
END:VEVENT
BEGIN:VTIMEZONE
TZID:Europe/Berlin
X-LIC-LOCATION:Europe/Berlin
BEGIN:DAYLIGHT
DTSTART:20260329T030000
TZOFFSETFROM:+0100
TZOFFSETTO:+0200
TZNAME:CEST
END:DAYLIGHT
END:VTIMEZONE
END:VCALENDAR