BEGIN:VCALENDAR
VERSION:2.0
PRODID:-//wp-events-plugin.com//5.99912//EN
TZID:Europe/Berlin
X-WR-TIMEZONE:Europe/Berlin
BEGIN:VEVENT
UID:0-263@laichingen.albverein.eu
DTSTART;TZID=Europe/Berlin:20260627T235900
DTEND;TZID=Europe/Berlin:20260628T130000
DTSTAMP:20260222T093050Z
URL:https://laichingen.albverein.eu/events/wanderung-wir-machen-die-nacht-
 zum-tag/
SUMMARY:Wanderung "Wir machen die Nacht zum Tag"
DESCRIPTION:Wanderung "Wir machen die Nacht zum Tag"\nUnsere sportliche Wan
 derung in der Nacht (Vollmond)\nführt uns vom Zentrum in Laichingen über
  Feldstetten\nund dem Biosphärengebiet vorbei an Zainingen über\nSeeburg
  nach Bad Urach. Übliche Wanderausrüstung\nund geeignetes Schuhwerk\, sa
 mt Stimlampe und/oder\nTaschenlampe mit Ersatzbatterie\, ausreichend Ge-\n
 tränke und Essen sind obligatorisch.\nTreffpunkt: 23.59 Uhr\, Parkplatz R
 adschule\,\nWanderstrecke: 32 km\nWanderführer: Thilo Möller\nKarte: W 2
 44 Ehingen / W 243 Bad Urach
END:VEVENT
BEGIN:VTIMEZONE
TZID:Europe/Berlin
X-LIC-LOCATION:Europe/Berlin
BEGIN:DAYLIGHT
DTSTART:20260329T030000
TZOFFSETFROM:+0100
TZOFFSETTO:+0200
TZNAME:CEST
END:DAYLIGHT
END:VTIMEZONE
END:VCALENDAR